BEGIN:VCALENDAR
VERSION:2.0
PRODID:-//Mary James Ministries - ECPv6.15.20//NONSGML v1.0//EN
CALSCALE:GREGORIAN
METHOD:PUBLISH
X-WR-CALNAME:Mary James Ministries
X-ORIGINAL-URL:https://maryjamesministries.org
X-WR-CALDESC:Events for Mary James Ministries
REFRESH-INTERVAL;VALUE=DURATION:PT1H
X-Robots-Tag:noindex
X-PUBLISHED-TTL:PT1H
BEGIN:VTIMEZONE
TZID:UTC
BEGIN:STANDARD
TZOFFSETFROM:+0000
TZOFFSETTO:+0000
TZNAME:UTC
DTSTART:20220101T000000
END:STANDARD
END:VTIMEZONE
BEGIN:VEVENT
DTSTART;TZID=UTC:20230806T100000
DTEND;TZID=UTC:20230806T123000
DTSTAMP:20260425T061718
CREATED:20230807T062424Z
LAST-MODIFIED:20230808T110047Z
UID:10000053-1691316000-1691325000@maryjamesministries.org
SUMMARY:The Cowboy Church of Ham Lake
DESCRIPTION:Worship for worship service. Concert immediately following.
URL:https://maryjamesministries.org/event/the-cowboy-church-of-ham-lake/
LOCATION:The Cowboy Church of Ham Lake\, 17525 Central Avenue\, Ham Lake\, Minnesota\, 55304
END:VEVENT
END:VCALENDAR