BEGIN:VCALENDAR
VERSION:2.0
PRODID:-//Mary James Ministries - ECPv6.15.20//NONSGML v1.0//EN
CALSCALE:GREGORIAN
METHOD:PUBLISH
X-ORIGINAL-URL:https://maryjamesministries.org
X-WR-CALDESC:Events for Mary James Ministries
REFRESH-INTERVAL;VALUE=DURATION:PT1H
X-Robots-Tag:noindex
X-PUBLISHED-TTL:PT1H
BEGIN:VTIMEZONE
TZID:UTC
BEGIN:STANDARD
TZOFFSETFROM:+0000
TZOFFSETTO:+0000
TZNAME:UTC
DTSTART:20220101T000000
END:STANDARD
END:VTIMEZONE
BEGIN:VEVENT
DTSTART;TZID=UTC:20230622T190000
DTEND;TZID=UTC:20230622T220000
DTSTAMP:20260425T091048
CREATED:20230714T061731Z
LAST-MODIFIED:20230808T111729Z
UID:10000045-1687460400-1687471200@maryjamesministries.org
SUMMARY:Shadow Mountain Community Church (29 Palms)
DESCRIPTION:Worship\, Special Music\, and Testimony for the Jesus Encounter Crusade
URL:https://maryjamesministries.org/event/shadow-mountain-community-church-29-palms/
LOCATION:Shadow Mountain Community Church (29 Palms)\, 6414 Split Rock Avenue\, Twentynine Palms\, California\, 92277\, United States
END:VEVENT
END:VCALENDAR