BEGIN:VCALENDAR
VERSION:2.0
PRODID:-//Mary James Ministries - ECPv6.15.20//NONSGML v1.0//EN
CALSCALE:GREGORIAN
METHOD:PUBLISH
X-WR-CALNAME:Mary James Ministries
X-ORIGINAL-URL:https://maryjamesministries.org
X-WR-CALDESC:Events for Mary James Ministries
REFRESH-INTERVAL;VALUE=DURATION:PT1H
X-Robots-Tag:noindex
X-PUBLISHED-TTL:PT1H
BEGIN:VTIMEZONE
TZID:UTC
BEGIN:STANDARD
TZOFFSETFROM:+0000
TZOFFSETTO:+0000
TZNAME:UTC
DTSTART:20230101T000000
END:STANDARD
END:VTIMEZONE
BEGIN:VTIMEZONE
TZID:America/Denver
BEGIN:DAYLIGHT
TZOFFSETFROM:-0700
TZOFFSETTO:-0600
TZNAME:MDT
DTSTART:20220313T090000
END:DAYLIGHT
BEGIN:STANDARD
TZOFFSETFROM:-0600
TZOFFSETTO:-0700
TZNAME:MST
DTSTART:20221106T080000
END:STANDARD
BEGIN:DAYLIGHT
TZOFFSETFROM:-0700
TZOFFSETTO:-0600
TZNAME:MDT
DTSTART:20230312T090000
END:DAYLIGHT
BEGIN:STANDARD
TZOFFSETFROM:-0600
TZOFFSETTO:-0700
TZNAME:MST
DTSTART:20231105T080000
END:STANDARD
BEGIN:DAYLIGHT
TZOFFSETFROM:-0700
TZOFFSETTO:-0600
TZNAME:MDT
DTSTART:20240310T090000
END:DAYLIGHT
BEGIN:STANDARD
TZOFFSETFROM:-0600
TZOFFSETTO:-0700
TZNAME:MST
DTSTART:20241103T080000
END:STANDARD
END:VTIMEZONE
BEGIN:VEVENT
DTSTART;TZID=UTC:20240915T100000
DTEND;TZID=UTC:20240915T113000
DTSTAMP:20260424T190742
CREATED:20240207T090807Z
LAST-MODIFIED:20240330T113414Z
UID:10000111-1726394400-1726399800@maryjamesministries.org
SUMMARY:Rockin' Country Church
DESCRIPTION:Worship and Special Music
URL:https://maryjamesministries.org/event/rockin-country-church/
LOCATION:Rockin’ Country Church\, 18280 Texas Highway 274\, Kemp\, TX\, 75143\, United States
END:VEVENT
BEGIN:VEVENT
DTSTART;TZID=UTC:20240914T080000
DTEND;TZID=UTC:20240914T170000
DTSTAMP:20260424T190742
CREATED:20240207T074034Z
LAST-MODIFIED:20240304T041239Z
UID:10000110-1726300800-1726333200@maryjamesministries.org
SUMMARY:2024 Rockin' Country Church Women's Conference
DESCRIPTION:Rockin’ Country Church One-Day Women’s Conference (with Tammy Whitehurst and Mary James)
URL:https://maryjamesministries.org/event/2024-rcc-womens-conference/
LOCATION:Rockin’ Country Church\, 18280 Texas Highway 274\, Kemp\, TX\, 75143\, United States
END:VEVENT
BEGIN:VEVENT
DTSTART;TZID=America/Denver:20230521T100000
DTEND;TZID=America/Denver:20230521T110000
DTSTAMP:20260424T190742
CREATED:20230309T211506Z
LAST-MODIFIED:20230622T140437Z
UID:10000008-1684663200-1684666800@maryjamesministries.org
SUMMARY:Rockin' Country Church
DESCRIPTION:
URL:https://maryjamesministries.org/event/rockin-cowboy-church/
LOCATION:Rockin’ Country Church\, 18280 Texas Highway 274\, Kemp\, TX\, 75143\, United States
END:VEVENT
END:VCALENDAR