BEGIN:VCALENDAR
VERSION:2.0
PRODID:-//Mary James Ministries - ECPv6.15.20//NONSGML v1.0//EN
CALSCALE:GREGORIAN
METHOD:PUBLISH
X-WR-CALNAME:Mary James Ministries
X-ORIGINAL-URL:https://maryjamesministries.org
X-WR-CALDESC:Events for Mary James Ministries
REFRESH-INTERVAL;VALUE=DURATION:PT1H
X-Robots-Tag:noindex
X-PUBLISHED-TTL:PT1H
BEGIN:VTIMEZONE
TZID:UTC
BEGIN:STANDARD
TZOFFSETFROM:+0000
TZOFFSETTO:+0000
TZNAME:UTC
DTSTART:20230101T000000
END:STANDARD
END:VTIMEZONE
BEGIN:VEVENT
DTSTART;TZID=UTC:20240417T183000
DTEND;TZID=UTC:20240417T200000
DTSTAMP:20260424T163621
CREATED:20240228T040024Z
LAST-MODIFIED:20240404T115005Z
UID:10000115-1713378600-1713384000@maryjamesministries.org
SUMMARY:Oakland New Life Church
DESCRIPTION:Worship\, Special Music\, and Testimony
URL:https://maryjamesministries.org/event/oakland-new-life-church/
LOCATION:Oakland New Life Church\, 1001 Northeast Michigan Avenue\, Topeka\, KS\, 66616\, United States
END:VEVENT
END:VCALENDAR