BEGIN:VCALENDAR
VERSION:2.0
PRODID:-//Mary James Ministries - ECPv6.15.20//NONSGML v1.0//EN
CALSCALE:GREGORIAN
METHOD:PUBLISH
X-WR-CALNAME:Mary James Ministries
X-ORIGINAL-URL:https://maryjamesministries.org
X-WR-CALDESC:Events for Mary James Ministries
REFRESH-INTERVAL;VALUE=DURATION:PT1H
X-Robots-Tag:noindex
X-PUBLISHED-TTL:PT1H
BEGIN:VTIMEZONE
TZID:America/Los_Angeles
BEGIN:DAYLIGHT
TZOFFSETFROM:-0800
TZOFFSETTO:-0700
TZNAME:PDT
DTSTART:20240310T100000
END:DAYLIGHT
BEGIN:STANDARD
TZOFFSETFROM:-0700
TZOFFSETTO:-0800
TZNAME:PST
DTSTART:20241103T090000
END:STANDARD
BEGIN:DAYLIGHT
TZOFFSETFROM:-0800
TZOFFSETTO:-0700
TZNAME:PDT
DTSTART:20250309T100000
END:DAYLIGHT
BEGIN:STANDARD
TZOFFSETFROM:-0700
TZOFFSETTO:-0800
TZNAME:PST
DTSTART:20251102T090000
END:STANDARD
BEGIN:DAYLIGHT
TZOFFSETFROM:-0800
TZOFFSETTO:-0700
TZNAME:PDT
DTSTART:20260308T100000
END:DAYLIGHT
BEGIN:STANDARD
TZOFFSETFROM:-0700
TZOFFSETTO:-0800
TZNAME:PST
DTSTART:20261101T090000
END:STANDARD
END:VTIMEZONE
BEGIN:VTIMEZONE
TZID:UTC
BEGIN:STANDARD
TZOFFSETFROM:+0000
TZOFFSETTO:+0000
TZNAME:UTC
DTSTART:20230101T000000
END:STANDARD
END:VTIMEZONE
BEGIN:VTIMEZONE
TZID:America/Denver
BEGIN:DAYLIGHT
TZOFFSETFROM:-0700
TZOFFSETTO:-0600
TZNAME:MDT
DTSTART:20220313T090000
END:DAYLIGHT
BEGIN:STANDARD
TZOFFSETFROM:-0600
TZOFFSETTO:-0700
TZNAME:MST
DTSTART:20221106T080000
END:STANDARD
BEGIN:DAYLIGHT
TZOFFSETFROM:-0700
TZOFFSETTO:-0600
TZNAME:MDT
DTSTART:20230312T090000
END:DAYLIGHT
BEGIN:STANDARD
TZOFFSETFROM:-0600
TZOFFSETTO:-0700
TZNAME:MST
DTSTART:20231105T080000
END:STANDARD
BEGIN:DAYLIGHT
TZOFFSETFROM:-0700
TZOFFSETTO:-0600
TZNAME:MDT
DTSTART:20240310T090000
END:DAYLIGHT
BEGIN:STANDARD
TZOFFSETFROM:-0600
TZOFFSETTO:-0700
TZNAME:MST
DTSTART:20241103T080000
END:STANDARD
END:VTIMEZONE
BEGIN:VEVENT
DTSTART;TZID=America/Los_Angeles:20251019T110000
DTEND;TZID=America/Los_Angeles:20251019T123000
DTSTAMP:20260424T162808
CREATED:20251014T152206Z
LAST-MODIFIED:20251014T152209Z
UID:10000249-1760871600-1760877000@maryjamesministries.org
SUMMARY:Midway Baptist Church
DESCRIPTION:Worship and Special Music
URL:https://maryjamesministries.org/event/midway-baptist-church-3/
LOCATION:Midway Baptist Church\, 6200 S Service Road\, Big Spring\, TX\, 79720\, United States
END:VEVENT
BEGIN:VEVENT
DTSTART;TZID=UTC:20251013T180000
DTEND;TZID=UTC:20251015T200000
DTSTAMP:20260424T162808
CREATED:20250122T084635Z
LAST-MODIFIED:20250922T181158Z
UID:10000192-1760378400-1760558400@maryjamesministries.org
SUMMARY:Midway Baptist Church (Fall Revival)
DESCRIPTION:Worship and Special Music for 2025 Fall Revival (Check church site for evening service times)
URL:https://maryjamesministries.org/event/midway-baptist-church-fall-revival/
LOCATION:Midway Baptist Church\, 6200 S Service Road\, Big Spring\, TX\, 79720\, United States
END:VEVENT
BEGIN:VEVENT
DTSTART;TZID=UTC:20251012T180000
DTEND;TZID=UTC:20251012T193000
DTSTAMP:20260424T162808
CREATED:20250122T084345Z
LAST-MODIFIED:20250124T202232Z
UID:10000191-1760292000-1760297400@maryjamesministries.org
SUMMARY:Midway Baptist Church
DESCRIPTION:Worship and Special Music
URL:https://maryjamesministries.org/event/midway-baptist-church-4/
LOCATION:Midway Baptist Church\, 6200 S Service Road\, Big Spring\, TX\, 79720\, United States
END:VEVENT
BEGIN:VEVENT
DTSTART;TZID=UTC:20240414T180000
DTEND;TZID=UTC:20240414T193000
DTSTAMP:20260424T162808
CREATED:20240107T102330Z
LAST-MODIFIED:20240404T111346Z
UID:10000102-1713117600-1713123000@maryjamesministries.org
SUMMARY:Midway Baptist Church
DESCRIPTION:Special Sunday Evening Concert
URL:https://maryjamesministries.org/event/midway-baptist-church-2/
LOCATION:Midway Baptist Church\, 6200 S Service Road\, Big Spring\, TX\, 79720\, United States
END:VEVENT
BEGIN:VEVENT
DTSTART;TZID=UTC:20240414T105500
DTEND;TZID=UTC:20240414T123000
DTSTAMP:20260424T162808
CREATED:20240107T101918Z
LAST-MODIFIED:20240107T103739Z
UID:10000101-1713092100-1713097800@maryjamesministries.org
SUMMARY:Midway Baptist Church
DESCRIPTION:Worship and Special Music
URL:https://maryjamesministries.org/event/midway-baptist-church/
LOCATION:Midway Baptist Church\, 6200 S Service Road\, Big Spring\, TX\, 79720\, United States
END:VEVENT
BEGIN:VEVENT
DTSTART;TZID=UTC:20240413T083000
DTEND;TZID=UTC:20240413T143000
DTSTAMP:20260424T162808
CREATED:20240104T064728Z
LAST-MODIFIED:20240404T114822Z
UID:10000086-1712997000-1713018600@maryjamesministries.org
SUMMARY:Midway Baptist Two-Day Women's Retreat
DESCRIPTION:“Extravagant Love” Women’s Retreat | Worship\, Special Music\, Testimony\, and Teaching
URL:https://maryjamesministries.org/event/midway-baptist-two-day-womens-retreat-2/
LOCATION:Midway Baptist Church\, 6200 S Service Road\, Big Spring\, TX\, 79720\, United States
END:VEVENT
BEGIN:VEVENT
DTSTART;TZID=UTC:20240412T180000
DTEND;TZID=UTC:20240412T210000
DTSTAMP:20260424T162808
CREATED:20240104T064336Z
LAST-MODIFIED:20240404T114746Z
UID:10000085-1712944800-1712955600@maryjamesministries.org
SUMMARY:Midway Baptist Two-Day Women's Retreat
DESCRIPTION:“Extravagant Love” Women’s Retreat | Worship\, Special Music\, Testimony\, and Teaching
URL:https://maryjamesministries.org/event/midway-baptist-two-day-womens-retreat/
LOCATION:Midway Baptist Church\, 6200 S Service Road\, Big Spring\, TX\, 79720\, United States
ATTACH;FMTTYPE=image/jpeg:https://maryjamesministries.org/wp-content/uploads/2024/01/Midway-Baptist-2024-2-scaled.jpg
END:VEVENT
BEGIN:VEVENT
DTSTART;TZID=America/Denver:20230430T180000
DTEND;TZID=America/Denver:20230430T193000
DTSTAMP:20260424T162808
CREATED:20230226T003249Z
LAST-MODIFIED:20230622T140740Z
UID:10000005-1682877600-1682883000@maryjamesministries.org
SUMMARY:Midway Baptist Evening Concert
DESCRIPTION:
URL:https://maryjamesministries.org/event/midway-baptist-evening-concert/
LOCATION:Midway Baptist Church\, 6200 S Service Road\, Big Spring\, TX\, 79720\, United States
END:VEVENT
BEGIN:VEVENT
DTSTART;TZID=America/Denver:20230430T094500
DTEND;TZID=America/Denver:20230430T110000
DTSTAMP:20260424T162808
CREATED:20230226T003103Z
LAST-MODIFIED:20230622T140817Z
UID:10000004-1682847900-1682852400@maryjamesministries.org
SUMMARY:Midway Baptist Church Morning Worship Service
DESCRIPTION:
URL:https://maryjamesministries.org/event/midway-baptist-church-morning-worship-service/
LOCATION:Midway Baptist Church\, 6200 S Service Road\, Big Spring\, TX\, 79720\, United States
END:VEVENT
BEGIN:VEVENT
DTSTART;TZID=America/Denver:20230429T080000
DTEND;TZID=America/Denver:20230429T190000
DTSTAMP:20260424T162808
CREATED:20230226T002342Z
LAST-MODIFIED:20230622T140846Z
UID:10000003-1682755200-1682794800@maryjamesministries.org
SUMMARY:Beauty From Brokenness Women's One Day Retreat
DESCRIPTION:
URL:https://maryjamesministries.org/event/beauty-from-brokenness-womens-one-day-retreat/
LOCATION:Midway Baptist Church\, 6200 S Service Road\, Big Spring\, TX\, 79720\, United States
END:VEVENT
END:VCALENDAR