BEGIN:VCALENDAR
VERSION:2.0
PRODID:-//Mary James Ministries - ECPv6.15.20//NONSGML v1.0//EN
CALSCALE:GREGORIAN
METHOD:PUBLISH
X-ORIGINAL-URL:https://maryjamesministries.org
X-WR-CALDESC:Events for Mary James Ministries
REFRESH-INTERVAL;VALUE=DURATION:PT1H
X-Robots-Tag:noindex
X-PUBLISHED-TTL:PT1H
BEGIN:VTIMEZONE
TZID:America/Los_Angeles
BEGIN:DAYLIGHT
TZOFFSETFROM:-0800
TZOFFSETTO:-0700
TZNAME:PDT
DTSTART:20240310T100000
END:DAYLIGHT
BEGIN:STANDARD
TZOFFSETFROM:-0700
TZOFFSETTO:-0800
TZNAME:PST
DTSTART:20241103T090000
END:STANDARD
BEGIN:DAYLIGHT
TZOFFSETFROM:-0800
TZOFFSETTO:-0700
TZNAME:PDT
DTSTART:20250309T100000
END:DAYLIGHT
BEGIN:STANDARD
TZOFFSETFROM:-0700
TZOFFSETTO:-0800
TZNAME:PST
DTSTART:20251102T090000
END:STANDARD
BEGIN:DAYLIGHT
TZOFFSETFROM:-0800
TZOFFSETTO:-0700
TZNAME:PDT
DTSTART:20260308T100000
END:DAYLIGHT
BEGIN:STANDARD
TZOFFSETFROM:-0700
TZOFFSETTO:-0800
TZNAME:PST
DTSTART:20261101T090000
END:STANDARD
END:VTIMEZONE
BEGIN:VTIMEZONE
TZID:UTC
BEGIN:STANDARD
TZOFFSETFROM:+0000
TZOFFSETTO:+0000
TZNAME:UTC
DTSTART:20220101T000000
END:STANDARD
END:VTIMEZONE
BEGIN:VEVENT
DTSTART;TZID=America/Los_Angeles:20251119T183000
DTEND;TZID=America/Los_Angeles:20251119T200000
DTSTAMP:20260424T203836
CREATED:20251014T154804Z
LAST-MODIFIED:20251014T154806Z
UID:10000251-1763577000-1763582400@maryjamesministries.org
SUMMARY:Hord's Creek CC
DESCRIPTION:Worship\, Special Music\, and Testimony
URL:https://maryjamesministries.org/event/hords-creek-cc-2/
LOCATION:Hord’s Creek Cowboy Church\, 3900 TX-153\, Coleman\, Texas\, 76834\, United States
END:VEVENT
BEGIN:VEVENT
DTSTART;TZID=UTC:20240410T183000
DTEND;TZID=UTC:20240410T200000
DTSTAMP:20260424T203836
CREATED:20240327T044916Z
LAST-MODIFIED:20240404T114712Z
UID:10000126-1712773800-1712779200@maryjamesministries.org
SUMMARY:Hord's Creek CC
DESCRIPTION:Worship\, Special Music\, and Testimony
URL:https://maryjamesministries.org/event/hords-creek-cc/
LOCATION:Hord’s Creek Cowboy Church\, 3900 TX-153\, Coleman\, Texas\, 76834\, United States
END:VEVENT
BEGIN:VEVENT
DTSTART;TZID=UTC:20230524T183000
DTEND;TZID=UTC:20230524T203000
DTSTAMP:20260424T203836
CREATED:20230714T062625Z
LAST-MODIFIED:20230808T112021Z
UID:10000048-1684953000-1684960200@maryjamesministries.org
SUMMARY:Hord's Creek Cowboy Church
DESCRIPTION:Worship\, Special Music\, and Message
URL:https://maryjamesministries.org/event/hords-creek-cowboy-church/
LOCATION:Hord’s Creek Cowboy Church\, 3900 TX-153\, Coleman\, Texas\, 76834\, United States
END:VEVENT
END:VCALENDAR