BEGIN:VCALENDAR
VERSION:2.0
PRODID:-//Mary James Ministries - ECPv6.15.20//NONSGML v1.0//EN
CALSCALE:GREGORIAN
METHOD:PUBLISH
X-ORIGINAL-URL:https://maryjamesministries.org
X-WR-CALDESC:Events for Mary James Ministries
REFRESH-INTERVAL;VALUE=DURATION:PT1H
X-Robots-Tag:noindex
X-PUBLISHED-TTL:PT1H
BEGIN:VTIMEZONE
TZID:America/Los_Angeles
BEGIN:DAYLIGHT
TZOFFSETFROM:-0800
TZOFFSETTO:-0700
TZNAME:PDT
DTSTART:20240310T100000
END:DAYLIGHT
BEGIN:STANDARD
TZOFFSETFROM:-0700
TZOFFSETTO:-0800
TZNAME:PST
DTSTART:20241103T090000
END:STANDARD
BEGIN:DAYLIGHT
TZOFFSETFROM:-0800
TZOFFSETTO:-0700
TZNAME:PDT
DTSTART:20250309T100000
END:DAYLIGHT
BEGIN:STANDARD
TZOFFSETFROM:-0700
TZOFFSETTO:-0800
TZNAME:PST
DTSTART:20251102T090000
END:STANDARD
BEGIN:DAYLIGHT
TZOFFSETFROM:-0800
TZOFFSETTO:-0700
TZNAME:PDT
DTSTART:20260308T100000
END:DAYLIGHT
BEGIN:STANDARD
TZOFFSETFROM:-0700
TZOFFSETTO:-0800
TZNAME:PST
DTSTART:20261101T090000
END:STANDARD
END:VTIMEZONE
BEGIN:VTIMEZONE
TZID:UTC
BEGIN:STANDARD
TZOFFSETFROM:+0000
TZOFFSETTO:+0000
TZNAME:UTC
DTSTART:20220101T000000
END:STANDARD
END:VTIMEZONE
BEGIN:VEVENT
DTSTART;TZID=America/Los_Angeles:20251106T190000
DTEND;TZID=America/Los_Angeles:20251106T203000
DTSTAMP:20260425T045142
CREATED:20250922T184855Z
LAST-MODIFIED:20250922T184857Z
UID:10000245-1762455600-1762461000@maryjamesministries.org
SUMMARY:High Point CC
DESCRIPTION:Worship\, Special Music\, and Testimony
URL:https://maryjamesministries.org/event/high-point-cc/
LOCATION:High Point Cowboy Church\, 6339 SE Hwy. 33\, Holt\, Missouri\, 64048\, United States
END:VEVENT
BEGIN:VEVENT
DTSTART;TZID=UTC:20230803T190000
DTEND;TZID=UTC:20230803T203000
DTSTAMP:20260425T045142
CREATED:20231025T074918Z
LAST-MODIFIED:20231114T072443Z
UID:10000073-1691089200-1691094600@maryjamesministries.org
SUMMARY:High Point Arena Cowboy Church
DESCRIPTION:Worship\, Special Music\, and Testimony
URL:https://maryjamesministries.org/event/11540/
LOCATION:High Point Cowboy Church\, 6339 SE Hwy. 33\, Holt\, Missouri\, 64048\, United States
END:VEVENT
END:VCALENDAR