BEGIN:VCALENDAR
VERSION:2.0
PRODID:-//Mary James Ministries - ECPv6.15.20//NONSGML v1.0//EN
CALSCALE:GREGORIAN
METHOD:PUBLISH
X-ORIGINAL-URL:https://maryjamesministries.org
X-WR-CALDESC:Events for Mary James Ministries
REFRESH-INTERVAL;VALUE=DURATION:PT1H
X-Robots-Tag:noindex
X-PUBLISHED-TTL:PT1H
BEGIN:VTIMEZONE
TZID:UTC
BEGIN:STANDARD
TZOFFSETFROM:+0000
TZOFFSETTO:+0000
TZNAME:UTC
DTSTART:20220101T000000
END:STANDARD
END:VTIMEZONE
BEGIN:VEVENT
DTSTART;TZID=UTC:20230803T190000
DTEND;TZID=UTC:20230803T203000
DTSTAMP:20260425T101918
CREATED:20230807T061131Z
LAST-MODIFIED:20230808T110315Z
UID:10000051-1691089200-1691094600@maryjamesministries.org
SUMMARY:High Point Arena CC
DESCRIPTION:Worship\, Special Music\, and Message
URL:https://maryjamesministries.org/event/high-point-arena-cc/
LOCATION:High Point Arena CC\, 6339 SE Hwy. 33\, Holt\, Missouri
END:VEVENT
END:VCALENDAR