BEGIN:VCALENDAR
VERSION:2.0
PRODID:-//Mary James Ministries - ECPv6.15.20//NONSGML v1.0//EN
CALSCALE:GREGORIAN
METHOD:PUBLISH
X-ORIGINAL-URL:https://maryjamesministries.org
X-WR-CALDESC:Events for Mary James Ministries
REFRESH-INTERVAL;VALUE=DURATION:PT1H
X-Robots-Tag:noindex
X-PUBLISHED-TTL:PT1H
BEGIN:VTIMEZONE
TZID:America/Los_Angeles
BEGIN:DAYLIGHT
TZOFFSETFROM:-0800
TZOFFSETTO:-0700
TZNAME:PDT
DTSTART:20240310T100000
END:DAYLIGHT
BEGIN:STANDARD
TZOFFSETFROM:-0700
TZOFFSETTO:-0800
TZNAME:PST
DTSTART:20241103T090000
END:STANDARD
BEGIN:DAYLIGHT
TZOFFSETFROM:-0800
TZOFFSETTO:-0700
TZNAME:PDT
DTSTART:20250309T100000
END:DAYLIGHT
BEGIN:STANDARD
TZOFFSETFROM:-0700
TZOFFSETTO:-0800
TZNAME:PST
DTSTART:20251102T090000
END:STANDARD
BEGIN:DAYLIGHT
TZOFFSETFROM:-0800
TZOFFSETTO:-0700
TZNAME:PDT
DTSTART:20260308T100000
END:DAYLIGHT
BEGIN:STANDARD
TZOFFSETFROM:-0700
TZOFFSETTO:-0800
TZNAME:PST
DTSTART:20261101T090000
END:STANDARD
END:VTIMEZONE
BEGIN:VTIMEZONE
TZID:UTC
BEGIN:STANDARD
TZOFFSETFROM:+0000
TZOFFSETTO:+0000
TZNAME:UTC
DTSTART:20220101T000000
END:STANDARD
END:VTIMEZONE
BEGIN:VEVENT
DTSTART;TZID=America/Los_Angeles:20251203T180000
DTEND;TZID=America/Los_Angeles:20251203T210000
DTSTAMP:20260425T051044
CREATED:20250922T210901Z
LAST-MODIFIED:20250922T210904Z
UID:10000246-1764784800-1764795600@maryjamesministries.org
SUMMARY:Freedom Church Christmas Gathering
DESCRIPTION:Worship\, Christmas Carols\, and Special Music.
URL:https://maryjamesministries.org/event/freedom-church-christmas-gathering/
LOCATION:Freedom Church\, 325 E Speer Avenue\, Sapulpa\, OK\, 74066\, United States
END:VEVENT
BEGIN:VEVENT
DTSTART;TZID=UTC:20240707T104500
DTEND;TZID=UTC:20240707T120000
DTSTAMP:20260425T051044
CREATED:20240309T003519Z
LAST-MODIFIED:20240309T003520Z
UID:10000120-1720349100-1720353600@maryjamesministries.org
SUMMARY:Freedom Church
DESCRIPTION:Worship\, Special Music\, and Testimony
URL:https://maryjamesministries.org/event/freedom-church-2/
LOCATION:Freedom Church\, 325 E Speer Avenue\, Sapulpa\, OK\, 74066\, United States
END:VEVENT
BEGIN:VEVENT
DTSTART;TZID=UTC:20230723T104500
DTEND;TZID=UTC:20230723T121500
DTSTAMP:20260425T051044
CREATED:20231025T072958Z
LAST-MODIFIED:20231114T071500Z
UID:10000070-1690109100-1690114500@maryjamesministries.org
SUMMARY:Freedom Church
DESCRIPTION:Worship\, Special Music\, and Message
URL:https://maryjamesministries.org/event/freedom-church/
LOCATION:Freedom Church\, 325 E Speer Avenue\, Sapulpa\, OK\, 74066\, United States
END:VEVENT
END:VCALENDAR