BEGIN:VCALENDAR
VERSION:2.0
PRODID:-//Mary James Ministries - ECPv6.15.20//NONSGML v1.0//EN
CALSCALE:GREGORIAN
METHOD:PUBLISH
X-WR-CALNAME:Mary James Ministries
X-ORIGINAL-URL:https://maryjamesministries.org
X-WR-CALDESC:Events for Mary James Ministries
REFRESH-INTERVAL;VALUE=DURATION:PT1H
X-Robots-Tag:noindex
X-PUBLISHED-TTL:PT1H
BEGIN:VTIMEZONE
TZID:America/Los_Angeles
BEGIN:DAYLIGHT
TZOFFSETFROM:-0800
TZOFFSETTO:-0700
TZNAME:PDT
DTSTART:20240310T100000
END:DAYLIGHT
BEGIN:STANDARD
TZOFFSETFROM:-0700
TZOFFSETTO:-0800
TZNAME:PST
DTSTART:20241103T090000
END:STANDARD
BEGIN:DAYLIGHT
TZOFFSETFROM:-0800
TZOFFSETTO:-0700
TZNAME:PDT
DTSTART:20250309T100000
END:DAYLIGHT
BEGIN:STANDARD
TZOFFSETFROM:-0700
TZOFFSETTO:-0800
TZNAME:PST
DTSTART:20251102T090000
END:STANDARD
BEGIN:DAYLIGHT
TZOFFSETFROM:-0800
TZOFFSETTO:-0700
TZNAME:PDT
DTSTART:20260308T100000
END:DAYLIGHT
BEGIN:STANDARD
TZOFFSETFROM:-0700
TZOFFSETTO:-0800
TZNAME:PST
DTSTART:20261101T090000
END:STANDARD
END:VTIMEZONE
BEGIN:VTIMEZONE
TZID:UTC
BEGIN:STANDARD
TZOFFSETFROM:+0000
TZOFFSETTO:+0000
TZNAME:UTC
DTSTART:20230101T000000
END:STANDARD
END:VTIMEZONE
BEGIN:VEVENT
DTSTART;TZID=America/Los_Angeles:20251205T190000
DTEND;TZID=America/Los_Angeles:20251205T203000
DTSTAMP:20260424T211327
CREATED:20250807T193557Z
LAST-MODIFIED:20250807T193559Z
UID:10000235-1764961200-1764966600@maryjamesministries.org
SUMMARY:Community Gospel Sing
DESCRIPTION:Christmas Carols\, Special Music\, and a Christmas Message from Mary
URL:https://maryjamesministries.org/event/community-gospel-sing-3/
LOCATION:Community Freewill Baptist Church\, 22 Selsor Street\, Kiefer\, OK\, 74041\, United States
END:VEVENT
BEGIN:VEVENT
DTSTART;TZID=UTC:20250404T190000
DTEND;TZID=UTC:20250404T203000
DTSTAMP:20260424T211327
CREATED:20241231T091506Z
LAST-MODIFIED:20241231T091508Z
UID:10000182-1743793200-1743798600@maryjamesministries.org
SUMMARY:Community Gospel Sing
DESCRIPTION:Worship and Special Music
URL:https://maryjamesministries.org/event/community-gospel-sing-2/
LOCATION:Community Freewill Baptist Church\, 22 Selsor Street\, Kiefer\, OK\, 74041\, United States
END:VEVENT
BEGIN:VEVENT
DTSTART;TZID=UTC:20240714T110000
DTEND;TZID=UTC:20240714T123000
DTSTAMP:20260424T211327
CREATED:20240120T125131Z
LAST-MODIFIED:20240125T034226Z
UID:10000108-1720954800-1720960200@maryjamesministries.org
SUMMARY:Community Freewill Baptist Church
DESCRIPTION:Worship\, Special Music\, and Testimony
URL:https://maryjamesministries.org/event/community-freewill-baptist-church/
LOCATION:Community Freewill Baptist Church\, 22 Selsor Street\, Kiefer\, OK\, 74041\, United States
END:VEVENT
BEGIN:VEVENT
DTSTART;TZID=UTC:20240712T190000
DTEND;TZID=UTC:20240712T203000
DTSTAMP:20260424T211327
CREATED:20240120T124716Z
LAST-MODIFIED:20240404T121835Z
UID:10000107-1720810800-1720816200@maryjamesministries.org
SUMMARY:Community Gospel Sing
DESCRIPTION:Worship and Special Music
URL:https://maryjamesministries.org/event/community-gospel-sing/
LOCATION:Community Freewill Baptist Church\, 22 Selsor Street\, Kiefer\, OK\, 74041\, United States
END:VEVENT
END:VCALENDAR