BEGIN:VCALENDAR
VERSION:2.0
PRODID:-//Mary James Ministries - ECPv6.15.20//NONSGML v1.0//EN
CALSCALE:GREGORIAN
METHOD:PUBLISH
X-WR-CALNAME:Mary James Ministries
X-ORIGINAL-URL:https://maryjamesministries.org
X-WR-CALDESC:Events for Mary James Ministries
REFRESH-INTERVAL;VALUE=DURATION:PT1H
X-Robots-Tag:noindex
X-PUBLISHED-TTL:PT1H
BEGIN:VTIMEZONE
TZID:America/Los_Angeles
BEGIN:DAYLIGHT
TZOFFSETFROM:-0800
TZOFFSETTO:-0700
TZNAME:PDT
DTSTART:20240310T100000
END:DAYLIGHT
BEGIN:STANDARD
TZOFFSETFROM:-0700
TZOFFSETTO:-0800
TZNAME:PST
DTSTART:20241103T090000
END:STANDARD
BEGIN:DAYLIGHT
TZOFFSETFROM:-0800
TZOFFSETTO:-0700
TZNAME:PDT
DTSTART:20250309T100000
END:DAYLIGHT
BEGIN:STANDARD
TZOFFSETFROM:-0700
TZOFFSETTO:-0800
TZNAME:PST
DTSTART:20251102T090000
END:STANDARD
BEGIN:DAYLIGHT
TZOFFSETFROM:-0800
TZOFFSETTO:-0700
TZNAME:PDT
DTSTART:20260308T100000
END:DAYLIGHT
BEGIN:STANDARD
TZOFFSETFROM:-0700
TZOFFSETTO:-0800
TZNAME:PST
DTSTART:20261101T090000
END:STANDARD
END:VTIMEZONE
BEGIN:VTIMEZONE
TZID:UTC
BEGIN:STANDARD
TZOFFSETFROM:+0000
TZOFFSETTO:+0000
TZNAME:UTC
DTSTART:20220101T000000
END:STANDARD
END:VTIMEZONE
BEGIN:VEVENT
DTSTART;TZID=America/Los_Angeles:20251109T100000
DTEND;TZID=America/Los_Angeles:20251109T113000
DTSTAMP:20260425T061839
CREATED:20250922T225154Z
LAST-MODIFIED:20250922T225157Z
UID:10000247-1762682400-1762687800@maryjamesministries.org
SUMMARY:Calvary Christian Union Church
DESCRIPTION:Worship\, Special Music\, and Testimony
URL:https://maryjamesministries.org/event/calvary-christian-union-church-2/
LOCATION:Calvary Christian Union Church\, 438 Benton Street\, Excelsior Springs\, Missouri\, 64024
END:VEVENT
BEGIN:VEVENT
DTSTART;TZID=UTC:20230802T183000
DTEND;TZID=UTC:20230802T200000
DTSTAMP:20260425T061839
CREATED:20230807T061728Z
LAST-MODIFIED:20230808T110359Z
UID:10000052-1691001000-1691006400@maryjamesministries.org
SUMMARY:Calvary Christian Union Church
DESCRIPTION:Worship\, Special Music\, and Message
URL:https://maryjamesministries.org/event/calvary-christian-union-church/
LOCATION:Calvary Christian Union Church\, 438 Benton Street\, Excelsior Springs\, Missouri\, 64024
END:VEVENT
END:VCALENDAR